BEGIN:VCALENDAR
VERSION:2.0
PRODID:-//SportPlan//Event Calendar//EN
CALSCALE:GREGORIAN
BEGIN:VEVENT
UID:537e4944-f785-4151-a3e8-92fce0e07af4@sportplan.local
DTSTAMP:20260420T204726Z
DTSTART;VALUE=DATE:20260531
DTEND;VALUE=DATE:20260601
SUMMARY:Kaišiadorių triatlonas 2026
DESCRIPTION:Kaišiadorių triatlonas 2026 is an official amateur triathlon event in Kaišiadorys\, Lithuania on 31 May 2026\, listed in the 2026 Lithuanian Triathlon Federation calendar. The federation calendar lists open participation formats including Olympic distance\, sprint distance\, TRI-FUN\, children’s triathlon\, and Splash and Run\, alongside Lithuanian youth cup categories.
LOCATION:Kaišiadorys
URL:https://sportplan.vercel.app/de/events/kaisiadoriu-triatlonas-2026-kaisiadorys-2026-05-31
END:VEVENT
END:VCALENDAR
