BEGIN:VCALENDAR
VERSION:2.0
PRODID:-//SportPlan//Event Calendar//EN
CALSCALE:GREGORIAN
BEGIN:VEVENT
UID:b9a2f99b-8870-4ffd-80c2-2e2571b9f548@sportplan.local
DTSTAMP:20260420T192150Z
DTSTART;VALUE=DATE:20261128
DTEND;VALUE=DATE:20261129
SUMMARY:K42 Aventura Villa la Angostura 2026
DESCRIPTION:K42 Aventura Villa la Angostura 2026 se celebrará el 28 de noviembre de 2026 en Villa La Angostura\, Neuquén. Es una buena cita para quienes quieren vivir el ambiente del evento en directo y planificar la jornada con antelación. La sede prevista está a unos 42 km\, así que conviene revisar accesos\, horarios y servicios antes de salir.
LOCATION:Villa La Angostura\, Neuquén
URL:https://sportplan.vercel.app/de/events/k42-aventura-villa-la-angostura-2026-villa-la-angostura-2026-11-28
END:VEVENT
END:VCALENDAR
