BEGIN:VCALENDAR
VERSION:2.0
PRODID:-//SportPlan//Event Calendar//EN
CALSCALE:GREGORIAN
BEGIN:VEVENT
UID:ca123c95-d669-492d-a833-f3568a776cfd@sportplan.local
DTSTAMP:20260420T191528Z
DTSTART;VALUE=DATE:20260503
DTEND;VALUE=DATE:20260504
SUMMARY:Junior Marathon 2026
DESCRIPTION:The official RunCzech page lists Junior Marathon 2026 on 3 May 2026 in Prague as part of the Prague Marathon weekend. It is a school relay event with free registration and clearly structured amateur team participation rules on the official page.
LOCATION:Prague
URL:https://sportplan.vercel.app/de/events/junior-marathon-2026-prague-2026-05-03
END:VEVENT
END:VCALENDAR
