BEGIN:VCALENDAR
VERSION:2.0
PRODID:-//SportPlan//Event Calendar//EN
CALSCALE:GREGORIAN
BEGIN:VEVENT
UID:f66ae11a-ce57-4278-b54e-f02546edfdcd@sportplan.local
DTSTAMP:20260421T001256Z
DTSTART;VALUE=DATE:20260904
DTEND;VALUE=DATE:20260905
SUMMARY:Jungfrau-Minirun
DESCRIPTION:official event page\; Tier 2 country scout
LOCATION:Interlaken\, Switzerland
URL:https://sportplan.vercel.app/de/events/jungfrau-minirun-2026-09-04
END:VEVENT
END:VCALENDAR
