BEGIN:VCALENDAR
VERSION:2.0
PRODID:-//SportPlan//Event Calendar//EN
CALSCALE:GREGORIAN
BEGIN:VEVENT
UID:afcbb099-56ea-4f2f-920d-e15380afdcaa@sportplan.local
DTSTAMP:20260421T001156Z
DTSTART;VALUE=DATE:20260905
DTEND;VALUE=DATE:20260906
SUMMARY:Jungfrau-Marathon
DESCRIPTION:official event page\; Tier 2 country scout
LOCATION:Interlaken\, Switzerland
URL:https://sportplan.vercel.app/de/events/jungfrau-marathon-2026-09-05
END:VEVENT
END:VCALENDAR
