BEGIN:VCALENDAR
VERSION:2.0
PRODID:-//SportPlan//Event Calendar//EN
CALSCALE:GREGORIAN
BEGIN:VEVENT
UID:810d50d5-f4c3-4909-bd1a-aeaa9ebfab18@sportplan.local
DTSTAMP:20260420T204725Z
DTSTART;VALUE=DATE:20260830
DTEND;VALUE=DATE:20260831
SUMMARY:Jakuszycka Dwunastka 12K 2026
DESCRIPTION:Jakuszycka Dwunastka is the official 12 km race of the Letni Bieg Piastów weekend in Jakuszyce\, Poland. The organizer describes it as a varied mountain course through the Izera Mountains for regular participants\, with start and finish at Polana Jakuszycka and about 250 m of elevation change.
LOCATION:Polana Jakuszycka\, Jakuszyce\, Lower Silesia\, Poland
URL:https://sportplan.vercel.app/de/events/jakuszycka-dwunastka-12k-2026-jakuszyce-2026-08-30
END:VEVENT
END:VCALENDAR
