BEGIN:VCALENDAR
VERSION:2.0
PRODID:-//SportPlan//Event Calendar//EN
CALSCALE:GREGORIAN
BEGIN:VEVENT
UID:3c45cae6-f0e7-4824-b585-686623919e46@sportplan.local
DTSTAMP:20260421T005711Z
DTSTART;VALUE=DATE:20260704
DTEND;VALUE=DATE:20260705
SUMMARY:Jølster Maraton
DESCRIPTION:Jølster Maraton arrangeres 4. juli 2026 i Norway. Dette er et godt valg for deltakere som ønsker en godt organisert sportsopplevelse og en motiverende atmosfære. Se den offisielle arrangementinformasjonen for tider\, løype og praktiske detaljer.
LOCATION:Norway
URL:https://sportplan.vercel.app/de/events/j-lster-maraton-2026-07-04
END:VEVENT
END:VCALENDAR
