BEGIN:VCALENDAR
VERSION:2.0
PRODID:-//SportPlan//Event Calendar//EN
CALSCALE:GREGORIAN
BEGIN:VEVENT
UID:23a0832f-b2e8-43d3-b4c3-05c69c45e863@sportplan.local
DTSTAMP:20260420T204419Z
DTSTART;VALUE=DATE:20261101
DTEND;VALUE=DATE:20261102
SUMMARY:IX Triatlo The Campus - Quinta do Lago
DESCRIPTION:Official Federação de Triatlo de Portugal event page for the 2026 IX Triatlo The Campus - Quinta do Lago. The federation page marks it as Campeonato Algarve e Baixo Alentejo and exposes open and age-group participation indicators on the public event page.
LOCATION:Quinta do Lago\, Portugal
URL:https://sportplan.vercel.app/de/events/ix-triatlo-the-campus-quinta-do-lago-2026-11-01
END:VEVENT
END:VCALENDAR
