BEGIN:VCALENDAR
VERSION:2.0
PRODID:-//SportPlan//Event Calendar//EN
CALSCALE:GREGORIAN
BEGIN:VEVENT
UID:6d3761b6-ce05-4e3a-bd68-10f3646d251a@sportplan.local
DTSTAMP:20260421T001730Z
DTSTART;VALUE=DATE:20260531
DTEND;VALUE=DATE:20260601
SUMMARY:IV Trail Costa de el Franco
DESCRIPTION:IV Trail Costa de el Franco es una prueba que se celebrará el 2026-05-31 en Franco (El). Es una buena opción para quienes buscan una jornada activa y bien organizada. Ideal tanto para participantes habituales como para quienes quieren sumar una nueva experiencia al calendario.
LOCATION:Franco (El)
URL:https://sportplan.vercel.app/de/events/iv-trail-costa-de-el-franco-iv-trail-costa-de-el-franco-franco-el-2026-05-31
END:VEVENT
END:VCALENDAR
