BEGIN:VCALENDAR
VERSION:2.0
PRODID:-//SportPlan//Event Calendar//EN
CALSCALE:GREGORIAN
BEGIN:VEVENT
UID:f3d65b44-c69f-447d-b8c4-817cbfa8f8a7@sportplan.local
DTSTAMP:20260420T204807Z
DTSTART;VALUE=DATE:20261206
DTEND;VALUE=DATE:20261207
SUMMARY:Ironman Western Australia Busselton 2026
DESCRIPTION:Ironman Western Australia Busselton 2026 is scheduled for December 6\, 2026 at Busselton\, Western Australia. It is a solid option for people who want to experience the event live and plan their day in advance. The listed venue is about 226 km away\, so it helps to check access\, timing\, and on-site amenities before heading out.
LOCATION:Busselton\, Western Australia
URL:https://sportplan.vercel.app/de/events/ironman-western-australia-busselton-2026-busselton-2026-12-06
END:VEVENT
END:VCALENDAR
