BEGIN:VCALENDAR
VERSION:2.0
PRODID:-//SportPlan//Event Calendar//EN
CALSCALE:GREGORIAN
BEGIN:VEVENT
UID:02427050-5e3b-478a-b599-8714c9ad1780@sportplan.local
DTSTAMP:20260420T160915Z
DTSTART;VALUE=DATE:20260111
DTEND;VALUE=DATE:20260112
SUMMARY:IRONMAN 70.3 Pucon
DESCRIPTION:IRONMAN 70.3 Pucon is an official amateur middle-distance triathlon scheduled for 11 January 2026 in Pucon\, Chile. The official race page highlights a lake swim\, rolling bike terrain\, and a challenging course set against southern Chile's lakes and volcano landscape\, with dedicated registration\, course\, and athlete information.
LOCATION:Pucon
URL:https://sportplan.vercel.app/de/events/ironman-70-3-pucon-2026-01-11
END:VEVENT
END:VCALENDAR
