BEGIN:VCALENDAR
VERSION:2.0
PRODID:-//SportPlan//Event Calendar//EN
CALSCALE:GREGORIAN
BEGIN:VEVENT
UID:80e9b49d-454d-491c-bda1-c773023f1db6@sportplan.local
DTSTAMP:20260420T191928Z
DTSTART;VALUE=DATE:20260712
DTEND;VALUE=DATE:20260713
SUMMARY:IRONMAN 70.3 Luxembourg - Région Moselle
DESCRIPTION:Discovered from DuckDuckGo HTML search results fetched via web_fetch\; direct Ahotu event URL extracted from snippet.
LOCATION:Wintrange\, Luxembourg
URL:https://sportplan.vercel.app/de/events/ironman-70-3-luxembourg-region-moselle-2026-07-12
END:VEVENT
END:VCALENDAR
