BEGIN:VCALENDAR
VERSION:2.0
PRODID:-//SportPlan//Event Calendar//EN
CALSCALE:GREGORIAN
BEGIN:VEVENT
UID:f0547e87-2b96-4b73-b4e3-8dede1690614@sportplan.local
DTSTAMP:20260420T221654Z
DTSTART;VALUE=DATE:20260920
DTEND;VALUE=DATE:20260921
SUMMARY:IRONMAN 70.3 Italy Emilia Romagna
DESCRIPTION:IRONMAN 70.3 Italy Emilia Romagna si svolgerà il 20 settembre 2026 a Bolonia. È un’ottima occasione per vivere una giornata di corsa con un percorso pensato per runner di diversi livelli. Perfetta sia per chi punta alla prestazione sia per chi vuole godersi percorso e atmosfera dell’evento.
LOCATION:Bolonia
URL:https://sportplan.vercel.app/de/events/ironman-70-3-italy-emilia-romagna-bolonia-2026-09-20
END:VEVENT
END:VCALENDAR
