BEGIN:VCALENDAR
VERSION:2.0
PRODID:-//SportPlan//Event Calendar//EN
CALSCALE:GREGORIAN
BEGIN:VEVENT
UID:e0319159-b48b-4e4e-8b49-e849ed40dad4@sportplan.local
DTSTAMP:20260420T220449Z
DTSTART;VALUE=DATE:20261108
DTEND;VALUE=DATE:20261109
SUMMARY:Ironman 70.3 Fortaleza 2026
DESCRIPTION:Ironman 70.3 Fortaleza 2026 acontece em 8 de novembro de 2026\, em Fortaleza\, Ceará. É uma boa opção para quem quer aproveitar o evento ao vivo e organizar o dia com antecedência. O local previsto fica a cerca de 113 km\, por isso vale a pena confirmar acessos\, horários e estrutura antes de sair.
LOCATION:Fortaleza\, Ceará
URL:https://sportplan.vercel.app/de/events/ironman-70-3-fortaleza-2026-fortaleza-2026-11-08
END:VEVENT
END:VCALENDAR
