BEGIN:VCALENDAR
VERSION:2.0
PRODID:-//SportPlan//Event Calendar//EN
CALSCALE:GREGORIAN
BEGIN:VEVENT
UID:9a4ce9cc-0452-4c40-aa6b-db338c1b3cde@sportplan.local
DTSTAMP:20260420T204836Z
DTSTART;VALUE=DATE:20260704
DTEND;VALUE=DATE:20260705
SUMMARY:Innsbruck Alpine Trail Festival 65K 2026
DESCRIPTION:Innsbruck Alpine Trail Festival 65K 2026 findet am 4. Juli 2026 in Innsbruck\, Tirol statt. Die Veranstaltung ist eine gute Wahl für Teilnehmende\, die ein gut organisiertes Sporterlebnis und eine motivierende Atmosphäre suchen. Die Strecke umfasst ungefähr 65 km. Prüfen Sie die offiziellen Veranstaltungsinformationen für Startzeiten\, Strecke und organisatorische Details.
LOCATION:Innsbruck\, Tirol
URL:https://sportplan.vercel.app/de/events/innsbruck-alpine-trail-festival-65k-2026-innsbruck-2026-07-04
END:VEVENT
END:VCALENDAR
