BEGIN:VCALENDAR
VERSION:2.0
PRODID:-//SportPlan//Event Calendar//EN
CALSCALE:GREGORIAN
BEGIN:VEVENT
UID:88859b5c-a092-423f-8be7-6ae13a34a99d@sportplan.local
DTSTAMP:20260420T204400Z
DTSTART;VALUE=DATE:20260516
DTEND;VALUE=DATE:20260517
SUMMARY:ING Night Marathon Luxembourg 2026 – Main
DESCRIPTION:Official ING Night Marathon main EN page\; May 16 2026\; confirmed HTTP 200\; luxembourg-marathon.lu redirects here\; distinct from /en/registration sub-page already in queue\; LU TIER1 running
LOCATION:Luxembourg City\, Luxembourg
URL:https://sportplan.vercel.app/de/events/ing-night-marathon-luxembourg-2026-main-2026-05-16
END:VEVENT
END:VCALENDAR
