BEGIN:VCALENDAR
VERSION:2.0
PRODID:-//SportPlan//Event Calendar//EN
CALSCALE:GREGORIAN
BEGIN:VEVENT
UID:613c504a-7707-4caa-91bb-66780be85e40@sportplan.local
DTSTAMP:20260420T191613Z
DTSTART;VALUE=DATE:20260920
DTEND;VALUE=DATE:20260921
SUMMARY:In Flanders Fields-marathon
DESCRIPTION:In Flanders Fields-marathon aura lieu le 20 septembre 2026 à Dixmuda. C’est un rendez-vous sportif idéal avec un parcours pensé pour des coureurs de différents niveaux. Une belle option pour viser un chrono solide ou simplement profiter de l’expérience et de l’ambiance de l’événement.
LOCATION:Dixmuda
URL:https://sportplan.vercel.app/de/events/in-flanders-fields-marathon-dixmuda-2026-09-20
END:VEVENT
END:VCALENDAR
