BEGIN:VCALENDAR
VERSION:2.0
PRODID:-//SportPlan//Event Calendar//EN
CALSCALE:GREGORIAN
BEGIN:VEVENT
UID:df8f3100-6c06-4e12-bbc5-da3088432fed@sportplan.local
DTSTAMP:20260420T191802Z
DTSTART;VALUE=DATE:20260516
DTEND;VALUE=DATE:20260517
SUMMARY:III Triatlo Sprint Cidade de Tavira
DESCRIPTION:Official Federação de Triatlo de Portugal event page for the 2026 III Triatlo Sprint Cidade de Tavira. The federation page marks it as Campeonato Algarve e Baixo Alentejo and exposes open and age-group participation indicators on the public event page.
LOCATION:Tavira\, Portugal
URL:https://sportplan.vercel.app/de/events/iii-triatlo-sprint-cidade-de-tavira-2026-05-16
END:VEVENT
END:VCALENDAR
