BEGIN:VCALENDAR
VERSION:2.0
PRODID:-//SportPlan//Event Calendar//EN
CALSCALE:GREGORIAN
BEGIN:VEVENT
UID:0f90ef8c-f35f-4b23-8823-d976452465ec@sportplan.local
DTSTAMP:20260420T204422Z
DTSTART;VALUE=DATE:20260620
DTEND;VALUE=DATE:20260622
SUMMARY:III Triatlo Cidade de Serpa
DESCRIPTION:Official Federação de Triatlo de Portugal event page for the 2026 III Triatlo Cidade de Serpa. The page lists it as a national competition and notes Taça de Portugal plus Campeonato Nacional de Clubes de Triatlo Contrarrelógio Equipas.
LOCATION:Serpa\, Beja\, Portugal
URL:https://sportplan.vercel.app/de/events/iii-triatlo-cidade-de-serpa-serpa-2026-06-20
END:VEVENT
END:VCALENDAR
