BEGIN:VCALENDAR
VERSION:2.0
PRODID:-//SportPlan//Event Calendar//EN
CALSCALE:GREGORIAN
BEGIN:VEVENT
UID:c4c58b9b-28ac-44ba-9b4d-554c98637f41@sportplan.local
DTSTAMP:20260420T192205Z
DTSTART;VALUE=DATE:20261215
DTEND;VALUE=DATE:20261216
SUMMARY:III San Silvestre Arico 2025
DESCRIPTION:III San Silvestre Arico 2025 se celebrará el 15 de diciembre de 2026 en Porís de Abona\, Tenerife\, Canarias. Es una buena cita para quienes quieren vivir el ambiente del evento en directo y planificar la jornada con antelación. La sede prevista está a unos 10 km\, así que conviene revisar accesos\, horarios y servicios antes de salir.
LOCATION:Porís de Abona\, Tenerife\, Canarias
URL:https://sportplan.vercel.app/de/events/iii-san-silvestre-arico-2025-poris-de-abona-2026-12-15-10k
END:VEVENT
END:VCALENDAR
