BEGIN:VCALENDAR
VERSION:2.0
PRODID:-//SportPlan//Event Calendar//EN
CALSCALE:GREGORIAN
BEGIN:VEVENT
UID:a46e16be-d95f-42e2-b499-b4d11bae48a5@sportplan.local
DTSTAMP:20260420T222657Z
DTSTART;VALUE=DATE:20260920
DTEND;VALUE=DATE:20260921
SUMMARY:III Duathlon Paredon — Duathlon Standard
DESCRIPTION:
LOCATION:El Paredón Buena Vista
URL:https://sportplan.vercel.app/de/events/iii-duathlon-paredon-duathlon-standard-el-paredon-buena-vista-2026-09-20
END:VEVENT
END:VCALENDAR
