BEGIN:VCALENDAR
VERSION:2.0
PRODID:-//SportPlan//Event Calendar//EN
CALSCALE:GREGORIAN
BEGIN:VEVENT
UID:c7a75638-8d26-47e9-bc83-a36ca9a1eb6a@sportplan.local
DTSTAMP:20260420T204837Z
DTSTART;VALUE=DATE:20260516
DTEND;VALUE=DATE:20260517
SUMMARY:III 10K y 5K Nocturno Run Addiction — 10K Run Addiction 10K
DESCRIPTION:III 10K y 5K Nocturno Run Addiction — 10K Run Addiction 10K se celebra el 16 de mayo de 2026 en Castellón de la Plana. La prueba recorre 10 km. Ideal para participantes que quieren disfrutar del recorrido\, el ambiente del evento y una jornada activa.
LOCATION:Castellón de la Plana
URL:https://sportplan.vercel.app/de/events/iii-10k-y-5k-nocturno-run-addiction-10k-run-addiction-10k-castellon-de-la-plana-2026-05-16
END:VEVENT
END:VCALENDAR
