BEGIN:VCALENDAR
VERSION:2.0
PRODID:-//SportPlan//Event Calendar//EN
CALSCALE:GREGORIAN
BEGIN:VEVENT
UID:6643a311-32cc-4932-bdce-0e29778e2578@sportplan.local
DTSTAMP:20260420T192109Z
DTSTART;VALUE=DATE:20260604
DTEND;VALUE=DATE:20260605
SUMMARY:II Trail Santa Bárbara la Puebla Valverde
DESCRIPTION:II Trail Santa Bárbara la Puebla Valverde se celebra el 4 de junio de 2026 en La Puebla de Valverde\, Teruel\, Aragón. Es una excelente opción para quienes quieren disfrutar de un evento bien organizado en este destino. La prueba recorre 13 km. Se espera un ambiente animado y una jornada memorable tanto para corredores habituales como para debutantes.
LOCATION:La Puebla de Valverde\, Teruel\, Aragón
URL:https://sportplan.vercel.app/de/events/ii-trail-santa-barbara-la-puebla-valverde-la-puebla-de-valverde-2026-06-04-13k
END:VEVENT
END:VCALENDAR
