BEGIN:VCALENDAR
VERSION:2.0
PRODID:-//SportPlan//Event Calendar//EN
CALSCALE:GREGORIAN
BEGIN:VEVENT
UID:cf2ebf20-9a54-447d-8b4a-c77e8bb1e436@sportplan.local
DTSTAMP:20260420T192149Z
DTSTART;VALUE=DATE:20261006
DTEND;VALUE=DATE:20261007
SUMMARY:II Carrera Empresas Galicia - XII Interrunning 5K 6K 10K
DESCRIPTION:II Carrera Empresas Galicia - XII Interrunning 5K 6K 10K se celebrará en Porriño\, Pontevedra\, Galicia el 6 octubre 2026. Es una cita ideal para quienes buscan una experiencia deportiva bien organizada y un recorrido de 10 km. Perfecto tanto para participantes que quieren rendir al máximo como para quienes desean disfrutar del ambiente del evento.
LOCATION:Porriño\, Pontevedra\, Galicia
URL:https://sportplan.vercel.app/de/events/ii-carrera-empresas-galicia-xii-interrunning-5k-6k-10k-porrino-2026-10-06-10k
END:VEVENT
END:VCALENDAR
