BEGIN:VCALENDAR
VERSION:2.0
PRODID:-//SportPlan//Event Calendar//EN
CALSCALE:GREGORIAN
BEGIN:VEVENT
UID:007ec8b0-3578-4f7a-8629-798fbd5b323d@sportplan.local
DTSTAMP:20260420T222635Z
DTSTART;VALUE=DATE:20261025
DTEND;VALUE=DATE:20261026
SUMMARY:Ibiza Trail Maratón - Media
DESCRIPTION:Ibiza Trail Maratón - Media se celebrará el 25 de octubre de 2026 en Sant Antoni de Portmany\, Baleares. Es una buena cita para quienes quieren vivir el ambiente del evento en directo y planificar la jornada con antelación. La sede prevista está a unos 28 km\, así que conviene revisar accesos\, horarios y servicios antes de salir.
LOCATION:Sant Antoni de Portmany\, Baleares
URL:https://sportplan.vercel.app/de/events/ibiza-trail-maraton-media-sant-antoni-de-portmany-2026-10-25-28k
END:VEVENT
END:VCALENDAR
