BEGIN:VCALENDAR
VERSION:2.0
PRODID:-//SportPlan//Event Calendar//EN
CALSCALE:GREGORIAN
BEGIN:VEVENT
UID:e2a0e4d6-a25c-4616-8e37-5be65ff6741c@sportplan.local
DTSTAMP:20260420T204139Z
DTSTART;VALUE=DATE:20260628
DTEND;VALUE=DATE:20260629
SUMMARY:I Duatlo de Mação
DESCRIPTION:I Duatlo de Mação is an official Federação de Triatlo de Portugal event in Mação\, Portugal on 28 June 2026. The federation event page lists it as the Campeonato Nacional de Clubes de Duatlo with a Prova Aberta\, indicating an amateur participation format in addition to the clubs championship.
LOCATION:Mação\, Santarém\, Portugal
URL:https://sportplan.vercel.app/de/events/i-duatlo-de-macao-2026-06-28
END:VEVENT
END:VCALENDAR
