BEGIN:VCALENDAR
VERSION:2.0
PRODID:-//SportPlan//Event Calendar//EN
CALSCALE:GREGORIAN
BEGIN:VEVENT
UID:032b5cc1-6c28-4744-93c5-dfa6a1be3fc8@sportplan.local
DTSTAMP:20260420T204224Z
DTSTART;VALUE=DATE:20261218
DTEND;VALUE=DATE:20261221
SUMMARY:HYROX Vancouver 2026
DESCRIPTION:HYROX Vancouver 2026 is a mass-participation hybrid fitness race weekend in Vancouver\, Canada. The official HYROX event page confirms a three-day amateur race program in December\, with the standard HYROX 8 x 1 km running and workout-station format open to everyday competitors.
LOCATION:Vancouver
URL:https://sportplan.vercel.app/de/events/hyrox-vancouver-2026-2026-12-18
END:VEVENT
END:VCALENDAR
