BEGIN:VCALENDAR
VERSION:2.0
PRODID:-//SportPlan//Event Calendar//EN
CALSCALE:GREGORIAN
BEGIN:VEVENT
UID:0900b041-afac-47b9-af4b-ceb345554b85@sportplan.local
DTSTAMP:20260420T204329Z
DTSTART;VALUE=DATE:20261017
DTEND;VALUE=DATE:20261018
SUMMARY:HYROX São Paulo 2026
DESCRIPTION:HYROX São Paulo 2026 is a mass-participation hybrid fitness race returning to Brazil for another city edition. The official HYROX page explicitly invites solo\, doubles\, and relay participation\, so it clearly qualifies as an amateur-enterable event.
LOCATION:São Paulo
URL:https://sportplan.vercel.app/de/events/hyrox-sao-paulo-2026-2026-10-17
END:VEVENT
END:VCALENDAR
