BEGIN:VCALENDAR
VERSION:2.0
PRODID:-//SportPlan//Event Calendar//EN
CALSCALE:GREGORIAN
BEGIN:VEVENT
UID:c31e78d6-a3e4-4454-a047-a4ef831d3d57@sportplan.local
DTSTAMP:20260420T191613Z
DTSTART;VALUE=DATE:20260528
DTEND;VALUE=DATE:20260601
SUMMARY:HYROX Rimini 2026
DESCRIPTION:HYROX Rimini 2026 is a four-day mass-participation hybrid fitness race inside Rimini Wellness. The official HYROX page confirms open singles\, doubles\, pro doubles\, and relay formats\, making it a strong amateur-participation event for Italy.
LOCATION:Rimini
URL:https://sportplan.vercel.app/de/events/hyrox-rimini-2026-2026-05-28
END:VEVENT
END:VCALENDAR
