BEGIN:VCALENDAR
VERSION:2.0
PRODID:-//SportPlan//Event Calendar//EN
CALSCALE:GREGORIAN
BEGIN:VEVENT
UID:6a4e9dab-7d20-4393-bed2-ff80430aa902@sportplan.local
DTSTAMP:20260420T204315Z
DTSTART;VALUE=DATE:20261120
DTEND;VALUE=DATE:20261123
SUMMARY:HYROX Poznań 2026
DESCRIPTION:HYROX Poznań 2026 is an official mass-participation HYROX fitness race in Poznań\, Poland. The official page states HYROX returns to central Poznań for another large public event\, encouraging athletes to register\, race\, and potentially earn a World Championship slot while joining an international participant field.
LOCATION:Poznań International Fair
URL:https://sportplan.vercel.app/de/events/hyrox-poznan-2026-2026-11-20
END:VEVENT
END:VCALENDAR
