BEGIN:VCALENDAR
VERSION:2.0
PRODID:-//SportPlan//Event Calendar//EN
CALSCALE:GREGORIAN
BEGIN:VEVENT
UID:df1feea4-a0c5-46c3-8473-f7dc705147e8@sportplan.local
DTSTAMP:20260420T225823Z
DTSTART;VALUE=DATE:20261202
DTEND;VALUE=DATE:20261207
SUMMARY:HYROX London ExCel 2026
DESCRIPTION:HYROX London ExCel 2026 is a five-day mass-participation HYROX race at ExCel London. The official event page provides dates and venue details for an amateur-enterable hybrid fitness event in the UK.
LOCATION:London
URL:https://sportplan.vercel.app/de/events/hyrox-london-excel-2026-2026-12-02
END:VEVENT
END:VCALENDAR
