BEGIN:VCALENDAR
VERSION:2.0
PRODID:-//SportPlan//Event Calendar//EN
CALSCALE:GREGORIAN
BEGIN:VEVENT
UID:1ef0b3d8-ff0b-443e-a8b7-9ba896317637@sportplan.local
DTSTAMP:20260420T191534Z
DTSTART;VALUE=DATE:20261217
DTEND;VALUE=DATE:20261221
SUMMARY:HYROX Gent 2026
DESCRIPTION:HYROX Gent 2026 is an official mass-participation HYROX fitness race weekend in Ghent\, Belgium. The official HYROX event page lists 17 to 20 December 2026 at Flanders Expo Gent and describes the event as open to competitors of every level\, including first-timers alongside athletes chasing podium spots.
LOCATION:Flanders Expo Gent
URL:https://sportplan.vercel.app/de/events/hyrox-gent-2026-2026-12-17
END:VEVENT
END:VCALENDAR
