BEGIN:VCALENDAR
VERSION:2.0
PRODID:-//SportPlan//Event Calendar//EN
CALSCALE:GREGORIAN
BEGIN:VEVENT
UID:71d97a32-8559-4da1-9891-e7965e1ae2a5@sportplan.local
DTSTAMP:20260420T191610Z
DTSTART;VALUE=DATE:20260905
DTEND;VALUE=DATE:20260907
SUMMARY:HYROX Acapulco 2026
DESCRIPTION:HYROX Acapulco 2026 is a two-day mass-participation HYROX race in Acapulco. The official event page describes the standard HYROX format and open solo\, doubles\, and relay participation\, supporting a strong amateur-enterable listing.
LOCATION:Acapulco de Juárez
URL:https://sportplan.vercel.app/de/events/hyrox-acapulco-2026-2026-09-05
END:VEVENT
END:VCALENDAR
