BEGIN:VCALENDAR
VERSION:2.0
PRODID:-//SportPlan//Event Calendar//EN
CALSCALE:GREGORIAN
BEGIN:VEVENT
UID:c7e9c262-d304-4951-81fc-88aef6a7a5bd@sportplan.local
DTSTAMP:20260420T204600Z
DTSTART;VALUE=DATE:20260822
DTEND;VALUE=DATE:20260823
SUMMARY:Hotter'n Hell Hundred 2026
DESCRIPTION:
LOCATION:Wichita Falls\, Texas
URL:https://sportplan.vercel.app/de/events/hotter-n-hell-hundred-2026-wichita-falls-2026-08-22
END:VEVENT
END:VCALENDAR
