BEGIN:VCALENDAR
VERSION:2.0
PRODID:-//SportPlan//Event Calendar//EN
CALSCALE:GREGORIAN
BEGIN:VEVENT
UID:ffb8f0e8-303c-4935-a60a-7578b698cd99@sportplan.local
DTSTAMP:20260420T204404Z
DTSTART;VALUE=DATE:20260830
DTEND;VALUE=DATE:20260831
SUMMARY:Hokkaido Marathon 2026
DESCRIPTION:Hokkaido Marathon 2026は2026年8月30日にSapporo\, Hokkaidoで開催されます。アクティブで整った運営のイベントを探している参加者や同伴者にとって魅力的な機会です。予定されている距離は42.2kmです。
LOCATION:Sapporo\, Hokkaido
URL:https://sportplan.vercel.app/de/events/hokkaido-marathon-2026-sapporo-2026-08-30
END:VEVENT
END:VCALENDAR
