BEGIN:VCALENDAR
VERSION:2.0
PRODID:-//SportPlan//Event Calendar//EN
CALSCALE:GREGORIAN
BEGIN:VEVENT
UID:c7f98c0f-b2b2-4e04-8c96-ce51c58d50e0@sportplan.local
DTSTAMP:20260421T024040Z
DTSTART;VALUE=DATE:20260829
DTEND;VALUE=DATE:20260830
SUMMARY:Hoka UTMB Mont-Blanc — Occ 55K
DESCRIPTION:Hoka UTMB Mont-Blanc — Occ 55K findet am 29. August 2026 in Orsières\, Valais statt. Die Veranstaltung ist eine starke Wahl für alle\, die in CH eine gut organisierte Herausforderung mit motivierender Atmosphäre suchen. Mit einer Distanz von etwa 55 km bietet sie ein attraktives Sporterlebnis – sowohl für erfahrene Teilnehmende als auch für alle\, die sich ein neues Ziel setzen möchten.
LOCATION:Orsières\, Valais
URL:https://sportplan.vercel.app/de/events/hoka-utmb-mont-blanc-occ-55k-orsi-res-2026-08-29
END:VEVENT
END:VCALENDAR
