BEGIN:VCALENDAR
VERSION:2.0
PRODID:-//SportPlan//Event Calendar//EN
CALSCALE:GREGORIAN
BEGIN:VEVENT
UID:0b443d03-230d-4c8e-a43b-aa1fcec816a4@sportplan.local
DTSTAMP:20260420T204443Z
DTSTART;VALUE=DATE:20260503
DTEND;VALUE=DATE:20260504
SUMMARY:HOKA Runaway Sydney Half Marathon
DESCRIPTION:Official event domain redirects to current race site\; validated via web_fetch.
LOCATION:Sydney\, NSW\, Australia
URL:https://sportplan.vercel.app/de/events/hoka-runaway-sydney-half-marathon-2026-05-03
END:VEVENT
END:VCALENDAR
