BEGIN:VCALENDAR
VERSION:2.0
PRODID:-//SportPlan//Event Calendar//EN
CALSCALE:GREGORIAN
BEGIN:VEVENT
UID:49f32d6a-0d05-4d5c-b381-20d9fa0a64ba@sportplan.local
DTSTAMP:20260420T204526Z
DTSTART;VALUE=DATE:20261011
DTEND;VALUE=DATE:20261012
SUMMARY:Hiru Haundiak
DESCRIPTION:Hiru Haundiak se celebra el 11 de octubre de 2026 en Vitoria-Gasteiz\, Araba\, País Vasco. Es una cita ideal para quienes buscan un recorrido bien señalizado y un gran ambiente de carrera\, con un recorrido de 101.5 km. Perfecta tanto para competir a buen ritmo como para disfrutar de la experiencia y del entorno del evento.
LOCATION:Vitoria-Gasteiz\, Araba\, País Vasco
URL:https://sportplan.vercel.app/de/events/hiru-haundiak-vitoria-gasteiz-2026-10-11-101-5k
END:VEVENT
END:VCALENDAR
