BEGIN:VCALENDAR
VERSION:2.0
PRODID:-//SportPlan//Event Calendar//EN
CALSCALE:GREGORIAN
BEGIN:VEVENT
UID:371005c8-9bef-4b06-ae0f-6cc469501cff@sportplan.local
DTSTAMP:20260420T204218Z
DTSTART;VALUE=DATE:20260531
DTEND;VALUE=DATE:20260601
SUMMARY:Hillerød Triatlon 2026
DESCRIPTION:Hillerød Triatlon 2026 is an official amateur triathlon in Hillerød\, Denmark on 31 May 2026. Triatlon Danmark lists Langgarverne as organizer and names Royal Stage on Milnersvej as the event base\, with three open participation formats: Guldruten\, Sølvruten\, and Bronzeruten for families.
LOCATION:Royal Stage\, Hillerød
URL:https://sportplan.vercel.app/de/events/hillerod-triatlon-2026-2026-05-31
END:VEVENT
END:VCALENDAR
