BEGIN:VCALENDAR
VERSION:2.0
PRODID:-//SportPlan//Event Calendar//EN
CALSCALE:GREGORIAN
BEGIN:VEVENT
UID:0b9044ba-c4b7-4b0e-8a48-72fe2d1a7481@sportplan.local
DTSTAMP:20260420T234449Z
DTSTART;VALUE=DATE:20260905
DTEND;VALUE=DATE:20260906
SUMMARY:Helsingborg Marathon & HOKA Helsingborg Half Marathon
DESCRIPTION:Helsingborg Marathon & HOKA Helsingborg Half Marathon arrangeras den 5 september 2026 i Helsingborg\, Sweden. Det är ett bra val för deltagare och anhöriga som söker ett aktivt och välorganiserat evenemang. Distansen bekräftas av arrangören.
LOCATION:Helsingborg\, Sweden
URL:https://sportplan.vercel.app/de/events/helsingborg-marathon-hoka-helsingborg-half-marathon-2026-09-05
END:VEVENT
END:VCALENDAR
