BEGIN:VCALENDAR
VERSION:2.0
PRODID:-//SportPlan//Event Calendar//EN
CALSCALE:GREGORIAN
BEGIN:VEVENT
UID:85a3f916-df38-4ad5-8767-b5d1431661e5@sportplan.local
DTSTAMP:20260421T005828Z
DTSTART;VALUE=DATE:20260516
DTEND;VALUE=DATE:20260517
SUMMARY:Hawke's Bay Marathon 2026 – Entry
DESCRIPTION:Official Hawke's Bay Marathon entry page\; 2026 entries open\; distances 42K\, 21K\, 10K\; finishes at Elephant Hill Estate & Winery\; NZ first discovery run\; stable sub-page
LOCATION:Hawke's Bay\, New Zealand
URL:https://sportplan.vercel.app/de/events/hawke-s-bay-marathon-2026-entry-2026-05-16
END:VEVENT
END:VCALENDAR
