BEGIN:VCALENDAR
VERSION:2.0
PRODID:-//SportPlan//Event Calendar//EN
CALSCALE:GREGORIAN
BEGIN:VEVENT
UID:be182b5c-d567-492d-9eea-75449fb35cf4@sportplan.local
DTSTAMP:20260421T001412Z
DTSTART;VALUE=DATE:20260904
DTEND;VALUE=DATE:20260905
SUMMARY:Harder Run Race 2026 (Jungfrau)
DESCRIPTION:Sub-race within Jungfrau Marathon weekend\; 4.4km mountain run with 755m altitude gain\; Sep 4\, 2026 17:10 start\; stable official event page\; CH trail variety
LOCATION:Harder Kulm\, Interlaken\, Switzerland
URL:https://sportplan.vercel.app/de/events/harder-run-race-2026-jungfrau-2026-09-04
END:VEVENT
END:VCALENDAR
