BEGIN:VCALENDAR
VERSION:2.0
PRODID:-//SportPlan//Event Calendar//EN
CALSCALE:GREGORIAN
BEGIN:VEVENT
UID:610b5108-dda5-43d4-bb9c-21f9dda9a229@sportplan.local
DTSTAMP:20260420T233743Z
DTSTART;VALUE=DATE:20260606
DTEND;VALUE=DATE:20260607
SUMMARY:Halvvättern 150 km 2026
DESCRIPTION:Halvvättern 150 km 2026 is an official amateur road-cycling event on the Vätternrundan organizer site in Motala\, Sweden. The official page describes it as a 150 km long-distance recreational challenge with open registration for riders from the year they turn 15\, registration pricing for the 2026 edition\, and finish-line cutoffs in Motala. The rendered official page shows the event date as 6 June 2026.
LOCATION:Motala
URL:https://sportplan.vercel.app/de/events/halvvattern-150-km-2026-motala-2026-06-06
END:VEVENT
END:VCALENDAR
