BEGIN:VCALENDAR
VERSION:2.0
PRODID:-//SportPlan//Event Calendar//EN
CALSCALE:GREGORIAN
BEGIN:VEVENT
UID:49bf2c81-b9ee-43c2-afdc-ea09fe6cf2cb@sportplan.local
DTSTAMP:20260420T221704Z
DTSTART;VALUE=DATE:20260314
DTEND;VALUE=DATE:20260315
SUMMARY:HalvBirken Ski 28K 2026
DESCRIPTION:
LOCATION:Sjusjøen Ski Arena to Birkebeineren Ski Stadium\, Innlandet\, Norway
URL:https://sportplan.vercel.app/de/events/halvbirken-ski-28k-2026-sjusjoen-2026-03-14
END:VEVENT
END:VCALENDAR
