BEGIN:VCALENDAR
VERSION:2.0
PRODID:-//SportPlan//Event Calendar//EN
CALSCALE:GREGORIAN
BEGIN:VEVENT
UID:7b968dc8-c7ad-468c-aa8d-eb8ec7d57a82@sportplan.local
DTSTAMP:20260421T005543Z
DTSTART;VALUE=DATE:20260613
DTEND;VALUE=DATE:20260614
SUMMARY:HalvBirken Run 12 km 2026
DESCRIPTION:HalvBirken Run 12 km 2026 is an official amateur trail running event in Lillehammer\, Norway on 13 June 2026. The official Birken page describes a 12 km trail race from Birkebeineren Ski Stadium to Håkons Hall with mixed trail\, dirt-road\, and former Olympic ski-track terrain\, and says timed participation is open from age 16 with untimed participation available for ages 13 to 15.
LOCATION:Birkebeineren Ski Stadium to Håkons Hall\, Lillehammer
URL:https://sportplan.vercel.app/de/events/halvbirken-run-12-km-2026-2026-06-13
END:VEVENT
END:VCALENDAR
