BEGIN:VCALENDAR
VERSION:2.0
PRODID:-//SportPlan//Event Calendar//EN
CALSCALE:GREGORIAN
BEGIN:VEVENT
UID:b28f7ce5-a877-4db8-a39e-bd9eb8e885d3@sportplan.local
DTSTAMP:20260420T221136Z
DTSTART;VALUE=DATE:20261115
DTEND;VALUE=DATE:20261116
SUMMARY:Hafkamp Groenewegen De Ronde Venen Marathon
DESCRIPTION:Manual enrichment from Brave result\; direct event page with explicit 2026 date.
LOCATION:Abcoude\, Netherlands
URL:https://sportplan.vercel.app/de/events/hafkamp-groenewegen-de-ronde-venen-marathon-2026-11-15
END:VEVENT
END:VCALENDAR
