BEGIN:VCALENDAR
VERSION:2.0
PRODID:-//SportPlan//Event Calendar//EN
CALSCALE:GREGORIAN
BEGIN:VEVENT
UID:99d2025f-7913-4696-a634-74f188b73cd4@sportplan.local
DTSTAMP:20260420T191618Z
DTSTART;VALUE=DATE:20260517
DTEND;VALUE=DATE:20260518
SUMMARY:Hackney Half Marathon 2026
DESCRIPTION:
LOCATION:London\, England
URL:https://sportplan.vercel.app/de/events/hackney-half-marathon-2026-london-2026-05-17
END:VEVENT
END:VCALENDAR
