BEGIN:VCALENDAR
VERSION:2.0
PRODID:-//SportPlan//Event Calendar//EN
CALSCALE:GREGORIAN
BEGIN:VEVENT
UID:404e88c4-4581-42e7-be1c-e1aaf455f4df@sportplan.local
DTSTAMP:20260420T204400Z
DTSTART;VALUE=DATE:20260530
DTEND;VALUE=DATE:20260601
SUMMARY:H3RO Mamaia 2026
DESCRIPTION:H3RO Mamaia 2026 is an official amateur triathlon weekend in Mamaia\, Romania on 30 and 31 May 2026. The Romanian Triathlon Federation calendar lists standard\, sprint\, and supersprint formats at Mamaia\, making it a strong open-participation triathlon event with an official event website.
LOCATION:Mamaia
URL:https://sportplan.vercel.app/de/events/h3ro-mamaia-2026-mamaia-2026-05-30
END:VEVENT
END:VCALENDAR
