BEGIN:VCALENDAR
VERSION:2.0
PRODID:-//SportPlan//Event Calendar//EN
CALSCALE:GREGORIAN
BEGIN:VEVENT
UID:37c72c7b-3809-4142-a05b-ea5e943ae0c4@sportplan.local
DTSTAMP:20260420T204534Z
DTSTART;VALUE=DATE:20260725
DTEND;VALUE=DATE:20260726
SUMMARY:Grossglockner Ultra Trail 110K 2026
DESCRIPTION:Grossglockner Ultra Trail 110K 2026 findet am 25. Juli 2026 in Kaprun\, Salzburg statt. Die Veranstaltung ist eine starke Wahl für Teilnehmende\, die ein gut organisiertes sportliches Erlebnis suchen. Die ausgeschriebene Distanz beträgt 110 km und hilft bei der Planung von Tempo\, Training und Anreise.
LOCATION:Kaprun\, Salzburg
URL:https://sportplan.vercel.app/de/events/grossglockner-ultra-trail-110k-2026-kaprun-2026-07-25
END:VEVENT
END:VCALENDAR
