BEGIN:VCALENDAR
VERSION:2.0
PRODID:-//SportPlan//Event Calendar//EN
CALSCALE:GREGORIAN
BEGIN:VEVENT
UID:d7119fd1-c8dc-4df6-af8a-435c75e1236f@sportplan.local
DTSTAMP:20260420T204605Z
DTSTART;VALUE=DATE:20260905
DTEND;VALUE=DATE:20260906
SUMMARY:Grejsdalen Ultra Trail 62K 2026
DESCRIPTION:Grejsdalen Ultra Trail 62K 2026 afholdes den 5 september 2026 i Vejle\, Southern Denmark. Det er et godt valg for deltagere og ledsagere\, der ønsker et aktivt og velorganiseret arrangement. Den annoncerede distance er 62 km.
LOCATION:Vejle\, Southern Denmark
URL:https://sportplan.vercel.app/de/events/grejsdalen-ultra-trail-62k-2026-vejle-2026-09-05
END:VEVENT
END:VCALENDAR
